BEGIN:VCALENDAR
VERSION:2.0
PRODID:iCalendar-Evo
X-WR-TIMEZONE:US/Eastern
BEGIN:VEVENT
DTSTAMP:20260426THI4701Z
URL:https://www.riveredgenj.org/events/35359/
DTSTART;TZID=US/Eastern:20251111T110000
DTEND;TZID=US/Eastern:20251111T120000
SUMMARY:Veterans Day Ceremony
DESCRIPTION: 
LOCATION:Veteran's Memorial Park at Continental Ave, River Edge, New Jersey 07661
GEO:40.93532992949613;-74.03839820086425
UID:6bdcf79a-0eb9-49be-a361-b961cce77c5a20251111T160000@www.riveredgenj.org
END:VEVENT
END:VCALENDAR